Workbook

Sheet 原始杂乱数据
A1: 姓名 | B1: 地址 | C1: 日期 | D1: 金额 | E1: 状态
A2: John Smith | B2: New York, NY 10001 | C2: 01/15/2026 | D2: $ 1,250.00 | E2: 有效
A3: Jane Doe | B3: Los Angeles, CA 90001 | C3: 2026-02-20 | D3: $890.50 | E3: 有效
A4: John Smith | B4: New York, NY 10001 | C4: 01/15/2026 | D4: $ 1,250.00 | E4: 有效
A5: BOB JOHNSON | B5: Chicago, IL 60601 | C5: 3/5/2026 | D5: 2450 | E5: 待处理
A6: Alice Brown | B6: Houston, TX 77001 | C6: 04-10-2026 | D6: $1,750.99 | E6: 有效
A7: carol white | B7: Phoenix AZ 85001 | C7: 2026/05/15 | D7: 3200.00 | E7: 无效
A8: Jane Doe | B8: Los Angeles, CA 90001 | C8: 2026-02-20 | D8: $890.50 | E8: 有效
A9: DAVE WILSON | B9: Seattle, WA 98101 | C9: 6/30/2026 | D9: 1875 | E9: 待处理
B10: Miami, FL 33101 | C10: 07-04-2026 | D10: 950.00 | E10: 有效
A11: Eve Martinez | B11: Denver, CO 80201 | C11: 08/12/2026 | E11: 有效

Sheet 已清洗
A1: 姓名_已清洗 | B1: 城市 | C1: 州 | D1: 邮编 | E1: 日期_已清洗 | F1: 金额_已清洗 | G1: Status_Clean
A2: =TRIM(CLEAN('原始杂乱数据'!A2)) | B2: =TRIM(LEFT('原始杂乱数据'!B2,FIND(",",'原始杂乱数据'!B2&",")-1)) | C2: =TRIM(MID('原始杂乱数据'!B2,FIND(",",'原始杂乱数据'!B2&",")+2,2)) | D2: =TRIM(RIGHT('原始杂乱数据'!B2,5)) | E2: =DATE(2026,1,15) | F2: =IFERROR(VALUE(SUBSTITUTE(SUBSTITUTE('原始杂乱数据'!D2,"$",""),",","")),"") | G2: =PROPER('原始杂乱数据'!E2)
A3: =TRIM(CLEAN('原始杂乱数据'!A3)) | B3: =TRIM(LEFT('原始杂乱数据'!B3,FIND(",",'原始杂乱数据'!B3&",")-1)) | C3: =TRIM(MID('原始杂乱数据'!B3,FIND(",",'原始杂乱数据'!B3&",")+2,2)) | D3: =TRIM(RIGHT('原始杂乱数据'!B3,5)) | E3: =DATE(2026,2,20) | F3: =IFERROR(VALUE(SUBSTITUTE(SUBSTITUTE('原始杂乱数据'!D3,"$",""),",","")),"") | G3: =PROPER('原始杂乱数据'!E3)
A4: =TRIM(CLEAN('原始杂乱数据'!A4)) | B4: =TRIM(LEFT('原始杂乱数据'!B4,FIND(",",'原始杂乱数据'!B4&",")-1)) | C4: =TRIM(MID('原始杂乱数据'!B4,FIND(",",'原始杂乱数据'!B4&",")+2,2)) | D4: =TRIM(RIGHT('原始杂乱数据'!B4,5)) | E4: =DATE(2026,1,15) | F4: =IFERROR(VALUE(SUBSTITUTE(SUBSTITUTE('原始杂乱数据'!D4,"$",""),",","")),"") | G4: =PROPER('原始杂乱数据'!E4)
A5: =TRIM(CLEAN('原始杂乱数据'!A5)) | B5: =TRIM(LEFT('原始杂乱数据'!B5,FIND(",",'原始杂乱数据'!B5&",")-1)) | C5: =TRIM(MID('原始杂乱数据'!B5,FIND(",",'原始杂乱数据'!B5&",")+2,2)) | D5: =TRIM(RIGHT('原始杂乱数据'!B5,5)) | E5: =DATE(2026,3,5) | F5: =IFERROR(VALUE(SUBSTITUTE(SUBSTITUTE('原始杂乱数据'!D5,"$",""),",","")),"") | G5: =PROPER('原始杂乱数据'!E5)
A6: =TRIM(CLEAN('原始杂乱数据'!A6)) | B6: =TRIM(LEFT('原始杂乱数据'!B6,FIND(",",'原始杂乱数据'!B6&",")-1)) | C6: =TRIM(MID('原始杂乱数据'!B6,FIND(",",'原始杂乱数据'!B6&",")+2,2)) | D6: =TRIM(RIGHT('原始杂乱数据'!B6,5)) | E6: =DATE(2026,4,10) | F6: =IFERROR(VALUE(SUBSTITUTE(SUBSTITUTE('原始杂乱数据'!D6,"$",""),",","")),"") | G6: =PROPER('原始杂乱数据'!E6)
A7: =TRIM(CLEAN('原始杂乱数据'!A7)) | B7: =TRIM(LEFT('原始杂乱数据'!B7,FIND(",",'原始杂乱数据'!B7&",")-1)) | C7: =TRIM(MID('原始杂乱数据'!B7,FIND(",",'原始杂乱数据'!B7&",")+2,2)) | D7: =TRIM(RIGHT('原始杂乱数据'!B7,5)) | E7: =DATE(2026,5,15) | F7: =IFERROR(VALUE(SUBSTITUTE(SUBSTITUTE('原始杂乱数据'!D7,"$",""),",","")),"") | G7: =PROPER('原始杂乱数据'!E7)
A8: =TRIM(CLEAN('原始杂乱数据'!A8)) | B8: =TRIM(LEFT('原始杂乱数据'!B8,FIND(",",'原始杂乱数据'!B8&",")-1)) | C8: =TRIM(MID('原始杂乱数据'!B8,FIND(",",'原始杂乱数据'!B8&",")+2,2)) | D8: =TRIM(RIGHT('原始杂乱数据'!B8,5)) | E8: =DATE(2026,2,20) | F8: =IFERROR(VALUE(SUBSTITUTE(SUBSTITUTE('原始杂乱数据'!D8,"$",""),",","")),"") | G8: =PROPER('原始杂乱数据'!E8)
A9: =TRIM(CLEAN('原始杂乱数据'!A9)) | B9: =TRIM(LEFT('原始杂乱数据'!B9,FIND(",",'原始杂乱数据'!B9&",")-1)) | C9: =TRIM(MID('原始杂乱数据'!B9,FIND(",",'原始杂乱数据'!B9&",")+2,2)) | D9: =TRIM(RIGHT('原始杂乱数据'!B9,5)) | E9: =DATE(2026,6,30) | F9: =IFERROR(VALUE(SUBSTITUTE(SUBSTITUTE('原始杂乱数据'!D9,"$",""),",","")),"") | G9: =PROPER('原始杂乱数据'!E9)
A10: =TRIM(CLEAN('原始杂乱数据'!A10)) | B10: =TRIM(LEFT('原始杂乱数据'!B10,FIND(",",'原始杂乱数据'!B10&",")-1)) | C10: =TRIM(MID('原始杂乱数据'!B10,FIND(",",'原始杂乱数据'!B10&",")+2,2)) | D10: =TRIM(RIGHT('原始杂乱数据'!B10,5)) | E10: =DATE(2026,7,4) | F10: =IFERROR(VALUE(SUBSTITUTE(SUBSTITUTE('原始杂乱数据'!D10,"$",""),",","")),"") | G10: =PROPER('原始杂乱数据'!E10)
A11: =TRIM(CLEAN('原始杂乱数据'!A11)) | B11: =TRIM(LEFT('原始杂乱数据'!B11,FIND(",",'原始杂乱数据'!B11&",")-1)) | C11: =TRIM(MID('原始杂乱数据'!B11,FIND(",",'原始杂乱数据'!B11&",")+2,2)) | D11: =TRIM(RIGHT('原始杂乱数据'!B11,5)) | E11: =DATE(2026,8,12) | F11: =IFERROR(VALUE(SUBSTITUTE(SUBSTITUTE('原始杂乱数据'!D11,"$",""),",","")),"") | G11: =PROPER('原始杂乱数据'!E11)
