Workbook

Sheet 未整理データ
A1: 名前 | B1: 住所 | C1: 日付 | D1: 金額 | E1: ステータス
A2: John Smith | B2: New York, NY 10001 | C2: 01/15/2026 | D2: $ 1,250.00 | E2: 有効
A3: Jane Doe | B3: Los Angeles, CA 90001 | C3: 2026-02-20 | D3: $890.50 | E3: 有効
A4: John Smith | B4: New York, NY 10001 | C4: 01/15/2026 | D4: $ 1,250.00 | E4: 有効
A5: BOB JOHNSON | B5: Chicago, IL 60601 | C5: 3/5/2026 | D5: 2450 | E5: 保留中
A6: Alice Brown | B6: Houston, TX 77001 | C6: 04-10-2026 | D6: $1,750.99 | E6: 有効
A7: carol white | B7: Phoenix AZ 85001 | C7: 2026/05/15 | D7: 3200.00 | E7: 無効
A8: Jane Doe | B8: Los Angeles, CA 90001 | C8: 2026-02-20 | D8: $890.50 | E8: 有効
A9: DAVE WILSON | B9: Seattle, WA 98101 | C9: 6/30/2026 | D9: 1875 | E9: 保留中
B10: Miami, FL 33101 | C10: 07-04-2026 | D10: 950.00 | E10: 有効
A11: Eve Martinez | B11: Denver, CO 80201 | C11: 08/12/2026 | E11: 有効

Sheet 整理済み
A1: 名前_整理済 | B1: 市区 | C1: 州 | D1: 郵便番号 | E1: 日付_整理済 | F1: 金額_整理済 | G1: Status_Clean
A2: =TRIM(CLEAN('未整理データ'!A2)) | B2: =TRIM(LEFT('未整理データ'!B2,FIND(",",'未整理データ'!B2&",")-1)) | C2: =TRIM(MID('未整理データ'!B2,FIND(",",'未整理データ'!B2&",")+2,2)) | D2: =TRIM(RIGHT('未整理データ'!B2,5)) | E2: =DATE(2026,1,15) | F2: =IFERROR(VALUE(SUBSTITUTE(SUBSTITUTE('未整理データ'!D2,"$",""),",","")),"") | G2: =PROPER('未整理データ'!E2)
A3: =TRIM(CLEAN('未整理データ'!A3)) | B3: =TRIM(LEFT('未整理データ'!B3,FIND(",",'未整理データ'!B3&",")-1)) | C3: =TRIM(MID('未整理データ'!B3,FIND(",",'未整理データ'!B3&",")+2,2)) | D3: =TRIM(RIGHT('未整理データ'!B3,5)) | E3: =DATE(2026,2,20) | F3: =IFERROR(VALUE(SUBSTITUTE(SUBSTITUTE('未整理データ'!D3,"$",""),",","")),"") | G3: =PROPER('未整理データ'!E3)
A4: =TRIM(CLEAN('未整理データ'!A4)) | B4: =TRIM(LEFT('未整理データ'!B4,FIND(",",'未整理データ'!B4&",")-1)) | C4: =TRIM(MID('未整理データ'!B4,FIND(",",'未整理データ'!B4&",")+2,2)) | D4: =TRIM(RIGHT('未整理データ'!B4,5)) | E4: =DATE(2026,1,15) | F4: =IFERROR(VALUE(SUBSTITUTE(SUBSTITUTE('未整理データ'!D4,"$",""),",","")),"") | G4: =PROPER('未整理データ'!E4)
A5: =TRIM(CLEAN('未整理データ'!A5)) | B5: =TRIM(LEFT('未整理データ'!B5,FIND(",",'未整理データ'!B5&",")-1)) | C5: =TRIM(MID('未整理データ'!B5,FIND(",",'未整理データ'!B5&",")+2,2)) | D5: =TRIM(RIGHT('未整理データ'!B5,5)) | E5: =DATE(2026,3,5) | F5: =IFERROR(VALUE(SUBSTITUTE(SUBSTITUTE('未整理データ'!D5,"$",""),",","")),"") | G5: =PROPER('未整理データ'!E5)
A6: =TRIM(CLEAN('未整理データ'!A6)) | B6: =TRIM(LEFT('未整理データ'!B6,FIND(",",'未整理データ'!B6&",")-1)) | C6: =TRIM(MID('未整理データ'!B6,FIND(",",'未整理データ'!B6&",")+2,2)) | D6: =TRIM(RIGHT('未整理データ'!B6,5)) | E6: =DATE(2026,4,10) | F6: =IFERROR(VALUE(SUBSTITUTE(SUBSTITUTE('未整理データ'!D6,"$",""),",","")),"") | G6: =PROPER('未整理データ'!E6)
A7: =TRIM(CLEAN('未整理データ'!A7)) | B7: =TRIM(LEFT('未整理データ'!B7,FIND(",",'未整理データ'!B7&",")-1)) | C7: =TRIM(MID('未整理データ'!B7,FIND(",",'未整理データ'!B7&",")+2,2)) | D7: =TRIM(RIGHT('未整理データ'!B7,5)) | E7: =DATE(2026,5,15) | F7: =IFERROR(VALUE(SUBSTITUTE(SUBSTITUTE('未整理データ'!D7,"$",""),",","")),"") | G7: =PROPER('未整理データ'!E7)
A8: =TRIM(CLEAN('未整理データ'!A8)) | B8: =TRIM(LEFT('未整理データ'!B8,FIND(",",'未整理データ'!B8&",")-1)) | C8: =TRIM(MID('未整理データ'!B8,FIND(",",'未整理データ'!B8&",")+2,2)) | D8: =TRIM(RIGHT('未整理データ'!B8,5)) | E8: =DATE(2026,2,20) | F8: =IFERROR(VALUE(SUBSTITUTE(SUBSTITUTE('未整理データ'!D8,"$",""),",","")),"") | G8: =PROPER('未整理データ'!E8)
A9: =TRIM(CLEAN('未整理データ'!A9)) | B9: =TRIM(LEFT('未整理データ'!B9,FIND(",",'未整理データ'!B9&",")-1)) | C9: =TRIM(MID('未整理データ'!B9,FIND(",",'未整理データ'!B9&",")+2,2)) | D9: =TRIM(RIGHT('未整理データ'!B9,5)) | E9: =DATE(2026,6,30) | F9: =IFERROR(VALUE(SUBSTITUTE(SUBSTITUTE('未整理データ'!D9,"$",""),",","")),"") | G9: =PROPER('未整理データ'!E9)
A10: =TRIM(CLEAN('未整理データ'!A10)) | B10: =TRIM(LEFT('未整理データ'!B10,FIND(",",'未整理データ'!B10&",")-1)) | C10: =TRIM(MID('未整理データ'!B10,FIND(",",'未整理データ'!B10&",")+2,2)) | D10: =TRIM(RIGHT('未整理データ'!B10,5)) | E10: =DATE(2026,7,4) | F10: =IFERROR(VALUE(SUBSTITUTE(SUBSTITUTE('未整理データ'!D10,"$",""),",","")),"") | G10: =PROPER('未整理データ'!E10)
A11: =TRIM(CLEAN('未整理データ'!A11)) | B11: =TRIM(LEFT('未整理データ'!B11,FIND(",",'未整理データ'!B11&",")-1)) | C11: =TRIM(MID('未整理データ'!B11,FIND(",",'未整理データ'!B11&",")+2,2)) | D11: =TRIM(RIGHT('未整理データ'!B11,5)) | E11: =DATE(2026,8,12) | F11: =IFERROR(VALUE(SUBSTITUTE(SUBSTITUTE('未整理データ'!D11,"$",""),",","")),"") | G11: =PROPER('未整理データ'!E11)
